BEGIN:VCALENDAR
VERSION:2.0
PRODID:-//Tukios.com/
BEGIN:VEVENT
UID:9f7f5cbc-960c-4dd0-b32e-8513a29df884@www.wadefamilyfuneralhome.com
DTSTAMP:20260421T092838Z
DTSTART:20260502T190000Z
DTEND:20260502T220000Z
SUMMARY:Celebration of Life
DESCRIPTION:Celebration of Life Service will begin at 2:30 pm
URL:https://www.wadefamilyfuneralhome.com/obituaries/terence-zang
LOCATION:303 S. Fielder Rd. 303 S. Fielder Rd.  Arlington TX 76013
GEO:32.7337896;-97.1312686
END:VEVENT
END:VCALENDAR