BEGIN:VCALENDAR
VERSION:2.0
PRODID:-//Tukios.com/
BEGIN:VEVENT
UID:883e5195-f608-4d8b-a95c-0939797374fb@www.wadefamilyfuneralhome.com
DTSTAMP:20260426T020200Z
DTSTART:20260503T160000Z
DTEND:20260503T163000Z
SUMMARY:Interment
DESCRIPTION:
URL:https://www.wadefamilyfuneralhome.com/obituaries/susan-adams
LOCATION: 1219 North Davis Drive  Arlington TX 76012
GEO:32.7542969;-97.1217212
END:VEVENT
END:VCALENDAR