BEGIN:VCALENDAR
VERSION:2.0
PRODID:-//Tukios.com/
BEGIN:VEVENT
UID:47a42c10-62ef-4299-ad48-59780734550d@www.wadefamilyfuneralhome.com
DTSTAMP:20260426T020615Z
DTSTART:20260502T150000Z
DTEND:20260502T160000Z
SUMMARY:Funeral Service
DESCRIPTION:Chapel
URL:https://www.wadefamilyfuneralhome.com/obituaries/susan-adams
LOCATION: 4140 W Pioneer Pkwy  Arlington TX 76013
GEO:32.7159566;-97.1706092
END:VEVENT
END:VCALENDAR