BEGIN:VCALENDAR
VERSION:2.0
PRODID:-//Tukios.com/
BEGIN:VEVENT
UID:255733ae-6072-47f3-a82e-81e130be862c@www.wadefamilyfuneralhome.com
DTSTAMP:20260426T020748Z
DTSTART:20260501T230000Z
DTEND:20260502T010000Z
SUMMARY:Visitation with Family
DESCRIPTION:Belle Hall
URL:https://www.wadefamilyfuneralhome.com/obituaries/susan-adams
LOCATION: 4140 W Pioneer Pkwy  Arlington TX 76013
GEO:32.7159566;-97.1706092
END:VEVENT
END:VCALENDAR