BEGIN:VCALENDAR
VERSION:2.0
PRODID:-//Tukios.com/
BEGIN:VEVENT
UID:5a8000e3-97c2-4b5f-a8d8-7c3783a3bacd@www.wadefamilyfuneralhome.com
DTSTAMP:20260424T232701Z
DTSTART:20260506T200000Z
DTEND:20260506T203000Z
SUMMARY:Graveside Service
DESCRIPTION:
URL:https://www.wadefamilyfuneralhome.com/obituaries/nils-clendening
LOCATION: 1219 North Davis Drive  Arlington TX 76012
GEO:32.7542969;-97.1217212
END:VEVENT
END:VCALENDAR