BEGIN:VCALENDAR
VERSION:2.0
PRODID:-//Tukios.com/
BEGIN:VEVENT
UID:787873e0-ed12-4b3d-bbd3-024d8db998d8@www.wadefamilyfuneralhome.com
DTSTAMP:20260424T233437Z
DTSTART:20260505T230000Z
DTEND:20260506T010000Z
SUMMARY:Visitation
DESCRIPTION:
URL:https://www.wadefamilyfuneralhome.com/obituaries/nils-clendening
LOCATION: 4140 W Pioneer Pkwy  Arlington TX 76013
GEO:32.7159566;-97.1706092
END:VEVENT
END:VCALENDAR