BEGIN:VCALENDAR
VERSION:2.0
PRODID:-//Tukios.com/
BEGIN:VEVENT
UID:7cb5ea21-bac2-4c7f-8de3-3959da6561f8@www.wadefamilyfuneralhome.com
DTSTAMP:20260426T013503Z
DTSTART:20260501T230000Z
DTEND:20260502T010000Z
SUMMARY:Visitation
DESCRIPTION:Wade Chapel
URL:https://www.wadefamilyfuneralhome.com/obituaries/natalie-brophey
LOCATION: 4140 W Pioneer Pkwy  Arlington TX 76013
GEO:32.7159566;-97.1706092
END:VEVENT
END:VCALENDAR