BEGIN:VCALENDAR
VERSION:2.0
PRODID:-//Tukios.com/
BEGIN:VEVENT
UID:af763e67-f4cc-4f80-aaae-d7f13d3abd49@www.wadefamilyfuneralhome.com
DTSTAMP:20260426T013503Z
DTSTART:20260502T160000Z
DTEND:20260502T170000Z
SUMMARY:Memorial Service
DESCRIPTION:
URL:https://www.wadefamilyfuneralhome.com/obituaries/natalie-brophey
LOCATION: 5925 U.S. 287 Frontage Road  Arlington TX 76017
GEO:32.6498827;-97.1857042
END:VEVENT
END:VCALENDAR