BEGIN:VCALENDAR
VERSION:2.0
PRODID:-//Tukios.com/
BEGIN:VEVENT
UID:75e9bf9c-2930-411f-95b4-20648db79724@www.wadefamilyfuneralhome.com
DTSTAMP:20260424T235253Z
DTSTART:20260507T190000Z
DTEND:20260507T193000Z
SUMMARY:Graveside Service
DESCRIPTION:
URL:https://www.wadefamilyfuneralhome.com/obituaries/john-shuttee
LOCATION: 2000 Mountain Creek Parkway  Dallas TX 75211
GEO:32.7156123;-96.9421747
END:VEVENT
END:VCALENDAR