BEGIN:VCALENDAR
VERSION:2.0
PRODID:-//Tukios.com/
BEGIN:VEVENT
UID:098ef19e-f264-4878-b17a-7d80519fb32f@www.wadefamilyfuneralhome.com
DTSTAMP:20260424T234801Z
DTSTART:20260507T163000Z
DTEND:20260507T173000Z
SUMMARY:Funeral Service
DESCRIPTION:
URL:https://www.wadefamilyfuneralhome.com/obituaries/john-shuttee
LOCATION: 4140 W Pioneer Pkwy  Arlington TX 76013
GEO:32.7159566;-97.1706092
END:VEVENT
END:VCALENDAR