BEGIN:VCALENDAR
VERSION:2.0
PRODID:-//Tukios.com/
BEGIN:VEVENT
UID:b4da53bb-de0c-4a3e-b938-88d1429f5dc9@www.wadefamilyfuneralhome.com
DTSTAMP:20260421T064311Z
DTSTART:20260429T190000Z
DTEND:20260429T193000Z
SUMMARY:Graveside Service
DESCRIPTION:
URL:https://www.wadefamilyfuneralhome.com/obituaries/dr-robert-cluck
LOCATION: 2000 Mountain Creek Parkway  Dallas TX 75211
GEO:32.7156123;-96.9421747
END:VEVENT
END:VCALENDAR