BEGIN:VCALENDAR
VERSION:2.0
PRODID:-//Tukios.com/
BEGIN:VEVENT
UID:002968c4-8663-4823-9542-6d4ccfc66a5b@www.wadefamilyfuneralhome.com
DTSTAMP:20260421T064555Z
DTSTART:20260429T160000Z
DTEND:20260429T173000Z
SUMMARY:Funeral Service
DESCRIPTION:
URL:https://www.wadefamilyfuneralhome.com/obituaries/dr-robert-cluck
LOCATION: 301 S Center St  Arlington TX 76010
GEO:32.7340854;-97.106751
END:VEVENT
END:VCALENDAR