BEGIN:VCALENDAR
VERSION:2.0
PRODID:-//Tukios.com/
BEGIN:VEVENT
UID:6487e89b-659e-43b5-a641-754119213f41@www.wadefamilyfuneralhome.com
DTSTAMP:20260421T064436Z
DTSTART:20260428T220000Z
DTEND:20260429T010000Z
SUMMARY:Visitation
DESCRIPTION:Wade Chapel
URL:https://www.wadefamilyfuneralhome.com/obituaries/dr-robert-cluck
LOCATION: 4140 W Pioneer Pkwy  Arlington TX 76013
GEO:32.7159566;-97.1706092
END:VEVENT
END:VCALENDAR